BEGIN:VCALENDAR
VERSION:2.0
PRODID:icalendar-ruby
CALSCALE:GREGORIAN
METHOD:PUBLISH
BEGIN:VEVENT
DTSTAMP:20260425T145616Z
UID:33-351130@centralbaptist.tithelysetup2.com
DTSTART:20260426T210000Z
DTEND:20260426T220000Z
CLASS:PUBLIC
CREATED:20260423T165129
DESCRIPTION:
LAST-MODIFIED:20260423T165129
LOCATION:
SUMMARY:Men and Women's Groups
URL;VALUE=URI:https://cbtsanford.com/events/men-and-womens-groups--33/2026-
 04-26
ATTACH;FILENAME=Copy-of-Speckled-Gradient---Livestream-Title-Still.png;FMTT
 YPE=image/png:https://dq5pwpg1q8ru0.cloudfront.net/2026/04/23/20/51/29/3d4
 06b63-8c78-4ad1-b766-d95082aa5c97/Copy-of-Speckled-Gradient---Livestream-T
 itle-Still.png
END:VEVENT
END:VCALENDAR
